BEGIN:VCALENDAR
VERSION:2.0
PRODID:-//Asociación Leteo - ECPv6.9.0//NONSGML v1.0//EN
CALSCALE:GREGORIAN
METHOD:PUBLISH
X-ORIGINAL-URL:https://leteo.org
X-WR-CALDESC:Eventos para Asociación Leteo
REFRESH-INTERVAL;VALUE=DURATION:PT1H
X-Robots-Tag:noindex
X-PUBLISHED-TTL:PT1H
BEGIN:VTIMEZONE
TZID:Europe/Madrid
BEGIN:DAYLIGHT
TZOFFSETFROM:+0100
TZOFFSETTO:+0200
TZNAME:CEST
DTSTART:20250330T010000
END:DAYLIGHT
BEGIN:STANDARD
TZOFFSETFROM:+0200
TZOFFSETTO:+0100
TZNAME:CET
DTSTART:20251026T010000
END:STANDARD
END:VTIMEZONE
BEGIN:VEVENT
DTSTART;TZID=Europe/Madrid:20250509T140000
DTEND;TZID=Europe/Madrid:20250509T163000
DTSTAMP:20260421T040819
CREATED:20250505T035352Z
LAST-MODIFIED:20250508T014513Z
UID:1509-1746799200-1746808200@leteo.org
SUMMARY:MasterClass
DESCRIPTION:MasterClass «POSITIVO NEGATIVO» con David Aguilera (Director) y Samuel Moreno (Productor). \nViernes 9 de mayo a partir de las 2pm en la I.E. La Merced de Mosquera. \n  \nInscríbete en: https://forms.gle/TKc4PDbHVPB7DBXu6
URL:https://leteo.org/programacion/masterclass/
LOCATION:I.E. La Merced de Mosquera\, Calle 3 # 2 - 50\, Mosquera\, Cundinamarca\, 250040\, Colombia
ATTACH;FMTTYPE=image/jpeg:https://leteo.org/wp-content/uploads/2025/05/2-MasterClass-La-Merded-scaled.jpg
ORGANIZER;CN="Leteo - Casa del Cine":MAILTO:casadelcine@leteo.org
END:VEVENT
BEGIN:VEVENT
DTSTART;TZID=Europe/Madrid:20250509T180000
DTEND;TZID=Europe/Madrid:20250509T203000
DTSTAMP:20260421T040819
CREATED:20250501T025057Z
LAST-MODIFIED:20250503T041954Z
UID:1490-1746813600-1746822600@leteo.org
SUMMARY:POSITIVO NEGATIVO
DESCRIPTION:SINOPSIS: \nEn lo profundo del Caribe\, a orillas del río Sinú\, vive Ángel (76) acompañado de su familia. En el pueblo se rumora que Ángel tiene pacto con el diablo y que es un viejo despreciable y peligroso\, dicen que heredó de su padre secretos del monte. Con amuletos y oraciones adquiere poderes sobrenaturales y puede vencer al hombre más fuerte. Hace algún tiempo no los pone en práctica\,  a causa del uso indebido de la brujería en su juventud. Su facultad  de estar en dos lugares al mismo tiempo se está saliendo de control. Se ha generado una atmósfera de asombro e incertidumbre en la población. El viejo busca ayuda en los rituales cristianos. Él sabe que una de las soluciones para calmar su desasosiego es dar en herencia los poderes\, pero ningún familiar quiere recibirla. Uno de sus nietos está interesado en el misterioso poder\, lo sigue\, lo espía y es testigo de momentos místicos. Ángel sabe que debe tomar la mejor decisión antes de morir para poder dejar la tierra en paz. \n  \n\nDirector: David Aguilera Cogollo \n\nGénero: Documental \nDuración: 71 minutos \nClasificación: Mayores de 12 años \n  \n Ver Trailer: \n  \n \n  \n Asegura tu entrada ingresando a: https://forms.gle/JKRWtoduUXvv9ytBA
URL:https://leteo.org/programacion/positivo-negativo/
LOCATION:Leteo – Casa del Cine. Teatro\, Calle 3 # 1 - 51\, Mosquera\, Cundinamarca\, Colombia
ATTACH;FMTTYPE=image/png:https://leteo.org/wp-content/uploads/2025/05/AFICHE_P_ALTA.png
END:VEVENT
BEGIN:VEVENT
DTSTART;TZID=Europe/Madrid:20250516T180000
DTEND;TZID=Europe/Madrid:20250516T180000
DTSTAMP:20260421T040819
CREATED:20250501T025806Z
LAST-MODIFIED:20250501T025806Z
UID:1493-1747418400-1747418400@leteo.org
SUMMARY:POSITIVO NEGATIVO
DESCRIPTION:SINOPSIS: \nEn lo profundo del Caribe\, a orillas del río Sinú\, vive Ángel (76) acompañado de su familia. En el pueblo se rumora que Ángel tiene pacto con el diablo y que es un viejo despreciable y peligroso\, dicen que heredó de su padre secretos del monte. Con amuletos y oraciones adquiere poderes sobrenaturales y puede vencer al hombre más fuerte. Hace algún tiempo no los pone en práctica\,  a causa del uso indebido de la brujería en su juventud. Su facultad  de estar en dos lugares al mismo tiempo se está saliendo de control. Se ha generado una atmósfera de asombro e incertidumbre en la población. El viejo busca ayuda en los rituales cristianos. Él sabe que una de las soluciones para calmar su desasosiego es dar en herencia los poderes\, pero ningún familiar quiere recibirla. Uno de sus nietos está interesado en el misterioso poder\, lo sigue\, lo espía y es testigo de momentos místicos. Ángel sabe que debe tomar la mejor decisión antes de morir para poder dejar la tierra en paz. \n  \n\nDirector: David Aguilera Cogollo \n\nGénero: Documental \nDuración: 71 minutos \nClasificación: Mayores de 12 años \n  \n  \n Ver Trailer: https://youtu.be/i4Nmxey-FfU?si=hsFSVeESHZTBVa6p
URL:https://leteo.org/programacion/positivo-negativo-2/
LOCATION:Sala Agua de Dios\, Cl 13 # 9-50 Centro Cultural Armando Rodríguez Jiménez\, Agua de Dios\, Cundinamarca\, 252850\, Colombia
ATTACH;FMTTYPE=image/png:https://leteo.org/wp-content/uploads/2025/05/AFICHE_P_ALTA.png
END:VEVENT
BEGIN:VEVENT
DTSTART;TZID=Europe/Madrid:20250523T180000
DTEND;TZID=Europe/Madrid:20250523T203000
DTSTAMP:20260421T040819
CREATED:20250501T030300Z
LAST-MODIFIED:20250511T185510Z
UID:1496-1748023200-1748032200@leteo.org
SUMMARY:UN NUEVO AMANECER
DESCRIPTION:SINOPSIS: \nSolo se necesitó un golpe certero del destino\, para que yo\, la niña de entonces\, no llegará a la cita con la guerra\, otras mujeres sí cumplieron ese encuentro\, y se unieron a la guerrilla. Pasados muchos años esta historia me vuelve a buscar y ya\, irremediablemente\, decidí ir tras ella. \n  \n\nDirectora: Priscila Padilla \n\nGénero: Documental \nDuración: 96 minutos \nClasificación: Mayores de 12 años \n  \n  \n Ver Trailer: \n  \n \n  \n  \n Asegura tu entrada ingresando a: https://forms.gle/P5KdQkvoKqgrrU398 \n 
URL:https://leteo.org/programacion/un-nuevo-amanecer/
LOCATION:Leteo – Casa del Cine. Teatro\, Calle 3 # 1 - 51\, Mosquera\, Cundinamarca\, Colombia
ATTACH;FMTTYPE=image/png:https://leteo.org/wp-content/uploads/2025/05/UNA-Afiche.png
END:VEVENT
BEGIN:VEVENT
DTSTART;TZID=Europe/Madrid:20250529T160000
DTEND;TZID=Europe/Madrid:20250529T183000
DTSTAMP:20260421T040819
CREATED:20250501T030856Z
LAST-MODIFIED:20250520T183700Z
UID:1503-1748534400-1748543400@leteo.org
SUMMARY:CAMPEONEX
DESCRIPTION:Sinopsis: \nNuestro equipo de «campeones» abandona el baloncesto para adentrarse por error en el fascinante mundo del atletismo de la mano de una entrenadora novata. \nEntre las duras exigencias de la nueva disciplina y la sorprendente capacidad de la entrenadora para atraer todo tipo de desgracias y calamidades\, todo acabará saliendo al revés. \n\n\n\n\n\n\n  \n  \nDirector: Javier Fesser \n\nGénero: Comedia Familiar \nDuración: 124 minutos \n\n  \n  Ver Trailer:
URL:https://leteo.org/programacion/campeonex-2/
LOCATION:Sala Agua de Dios\, Cl 13 # 9-50 Centro Cultural Armando Rodríguez Jiménez\, Agua de Dios\, Cundinamarca\, 252850\, Colombia
ATTACH;FMTTYPE=image/jpeg:https://leteo.org/wp-content/uploads/2025/04/Afiche-CAMPEONEX-scaled.jpg
END:VEVENT
END:VCALENDAR