BEGIN:VCALENDAR
VERSION:2.0
PRODID:-//Asociación Leteo - ECPv6.9.0//NONSGML v1.0//EN
CALSCALE:GREGORIAN
METHOD:PUBLISH
X-WR-CALNAME:Asociación Leteo
X-ORIGINAL-URL:https://leteo.org
X-WR-CALDESC:Eventos para Asociación Leteo
REFRESH-INTERVAL;VALUE=DURATION:PT1H
X-Robots-Tag:noindex
X-PUBLISHED-TTL:PT1H
BEGIN:VTIMEZONE
TZID:Europe/Madrid
BEGIN:DAYLIGHT
TZOFFSETFROM:+0100
TZOFFSETTO:+0200
TZNAME:CEST
DTSTART:20250330T010000
END:DAYLIGHT
BEGIN:STANDARD
TZOFFSETFROM:+0200
TZOFFSETTO:+0100
TZNAME:CET
DTSTART:20251026T010000
END:STANDARD
END:VTIMEZONE
BEGIN:VEVENT
DTSTART;TZID=Europe/Madrid:20250613T180000
DTEND;TZID=Europe/Madrid:20250613T200000
DTSTAMP:20260421T041608
CREATED:20250501T030538Z
LAST-MODIFIED:20250501T030538Z
UID:1501-1749837600-1749844800@leteo.org
SUMMARY:UN NUEVO AMANECER
DESCRIPTION:SINOPSIS: \nSolo se necesitó un golpe certero del destino\, para que yo\, la niña de entonces\, no llegará a la cita con la guerra\, otras mujeres sí cumplieron ese encuentro\, y se unieron a la guerrilla. Pasados muchos años esta historia me vuelve a buscar y ya\, irremediablemente\, decidí ir tras ella. \n  \n\nDirectora: Priscila Padilla \n\nGénero: Documental \nDuración: 96 minutos \nClasificación: Mayores de 12 años \n  \n  \n Ver Trailer: \n 
URL:https://leteo.org/programacion/un-nuevo-amanecer-2/
LOCATION:Sala Agua de Dios\, Cl 13 # 9-50 Centro Cultural Armando Rodríguez Jiménez\, Agua de Dios\, Cundinamarca\, 252850\, Colombia
ATTACH;FMTTYPE=image/png:https://leteo.org/wp-content/uploads/2025/05/UNA-Afiche.png
END:VEVENT
END:VCALENDAR